BEGIN:VCALENDAR
VERSION:2.0
PRODID:-//Creative Gaming e.V.//PlayFestival
CALSCALE:GREGORIAN
BEGIN:VTIMEZONE
TZID:Europe/Berlin
BEGIN:STANDARD
DTSTART:19700329T020000
RRULE:FREQ=YEARLY;BYDAY=-1SU;BYMONTH=10
TZOFFSETFROM:+0200
TZOFFSETTO:+0100
END:STANDARD
BEGIN:DAYLIGHT
DTSTART:19701025T030000
RRULE:FREQ=YEARLY;BYDAY=-1SU;BYMONTH=3
TZOFFSETFROM:+0100
TZOFFSETTO:+0200
END:DAYLIGHT
END:VTIMEZONE
BEGIN:VEVENT
UID:event-monster-garden-readings@playfestival
LOCATION:Jupiter\, Booth of Things
SUMMARY:Monster Garden Readings
URL;VALUE=URI:https://www.playfestival.de/en/program/monster-garden-readings
DESCRIPTION:Get your cards read by Zack Wood from Japan!
DTSTART;TZID=Europe/Berlin:20241111T140000
DTEND;TZID=Europe/Berlin:20241111T144500
DTSTAMP:20260420T130001
END:VEVENT
END:VCALENDAR