BEGIN:VCALENDAR
VERSION:2.0
PRODID:-//Creative Gaming e.V.//PlayFestival
CALSCALE:GREGORIAN
BEGIN:VTIMEZONE
TZID:Europe/Berlin
BEGIN:STANDARD
DTSTART:19700329T020000
RRULE:FREQ=YEARLY;BYDAY=-1SU;BYMONTH=10
TZOFFSETFROM:+0200
TZOFFSETTO:+0100
END:STANDARD
BEGIN:DAYLIGHT
DTSTART:19701025T030000
RRULE:FREQ=YEARLY;BYDAY=-1SU;BYMONTH=3
TZOFFSETFROM:+0100
TZOFFSETTO:+0200
END:DAYLIGHT
END:VTIMEZONE
BEGIN:VEVENT
UID:event-hausbesuch-daniel-marx-osmotic@playfestival
LOCATION:Jupiter\, Online\, Stage
SUMMARY:Job visit with Daniel Marx - Game Designer
URL;VALUE=URI:https://www.playfestival.de/en/program/hausbesuch-daniel-marx-osmotic
DESCRIPTION:<strong>Career Insights for Beginners</strong>
DTSTART;TZID=Europe/Berlin:20241115T100000
DTEND;TZID=Europe/Berlin:20241115T103000
DTSTAMP:20260420T130600
END:VEVENT
END:VCALENDAR