BEGIN:VCALENDAR
VERSION:2.0
PRODID:-//Creative Gaming e.V.//PlayFestival
CALSCALE:GREGORIAN
BEGIN:VTIMEZONE
TZID:Europe/Berlin
BEGIN:STANDARD
DTSTART:19700329T020000
RRULE:FREQ=YEARLY;BYDAY=-1SU;BYMONTH=10
TZOFFSETFROM:+0200
TZOFFSETTO:+0100
END:STANDARD
BEGIN:DAYLIGHT
DTSTART:19701025T030000
RRULE:FREQ=YEARLY;BYDAY=-1SU;BYMONTH=3
TZOFFSETFROM:+0100
TZOFFSETTO:+0200
END:DAYLIGHT
END:VTIMEZONE
BEGIN:VEVENT
UID:event-fortbildung-creative-gaming@playfestival
LOCATION:Jupiter\, Workshop-Area 6
SUMMARY:Creative Gaming
URL;VALUE=URI:https://www.playfestival.de/en/program/fortbildung-creative-gaming
DESCRIPTION:Advanced training: An introduction to the basics and methods of using computer games in a creative way.
DTSTART;TZID=Europe/Berlin:20241116T110000
DTEND;TZID=Europe/Berlin:20241116T130000
DTSTAMP:20260420T111216
END:VEVENT
END:VCALENDAR