BEGIN:VCALENDAR
VERSION:2.0
PRODID:-//Creative Gaming e.V.//PlayFestival
CALSCALE:GREGORIAN
BEGIN:VTIMEZONE
TZID:Europe/Berlin
BEGIN:STANDARD
DTSTART:19700329T020000
RRULE:FREQ=YEARLY;BYDAY=-1SU;BYMONTH=10
TZOFFSETFROM:+0200
TZOFFSETTO:+0100
END:STANDARD
BEGIN:DAYLIGHT
DTSTART:19701025T030000
RRULE:FREQ=YEARLY;BYDAY=-1SU;BYMONTH=3
TZOFFSETFROM:+0100
TZOFFSETTO:+0200
END:DAYLIGHT
END:VTIMEZONE
BEGIN:VEVENT
UID:event-playvalley-di@playfestival
LOCATION:Online
SUMMARY:PLAYvalley
URL;VALUE=URI:https://www.playfestival.de/de/programm/playvalley-di
DESCRIPTION:Unsere browserbasierte Festival-Location für bis zu 1000 Besucher*innen.
DTSTART;TZID=Europe/Berlin:20241112T100000
DTEND;TZID=Europe/Berlin:20241112T180000
DTSTAMP:20260420T110652
END:VEVENT
END:VCALENDAR