BEGIN:VCALENDAR
VERSION:2.0
PRODID:-//Creative Gaming e.V.//PlayFestival
CALSCALE:GREGORIAN
BEGIN:VTIMEZONE
TZID:Europe/Berlin
BEGIN:STANDARD
DTSTART:19700329T020000
RRULE:FREQ=YEARLY;BYDAY=-1SU;BYMONTH=10
TZOFFSETFROM:+0200
TZOFFSETTO:+0100
END:STANDARD
BEGIN:DAYLIGHT
DTSTART:19701025T030000
RRULE:FREQ=YEARLY;BYDAY=-1SU;BYMONTH=3
TZOFFSETFROM:+0100
TZOFFSETTO:+0200
END:DAYLIGHT
END:VTIMEZONE
BEGIN:VEVENT
UID:event-hamburger-indie-treff-42@playfestival
LOCATION:Jupiter\, Online
SUMMARY:Hamburger Indie Treff #42
URL;VALUE=URI:https://www.playfestival.de/de/programm/hamburger-indie-treff-42
DESCRIPTION:Die Gründer von Tiny Roar nehmen Euch mit auf eine Zeitreise durch 10 Jahre Indie Treff
DTSTART;TZID=Europe/Berlin:20241114T190000
DTEND;TZID=Europe/Berlin:20241114T210000
DTSTAMP:20260420T111216
END:VEVENT
END:VCALENDAR